BEGIN:VCALENDAR
VERSION:2.0
PRODID:-//Karori Junior Hockey Club - ECPv4.9.13//NONSGML v1.0//EN
CALSCALE:GREGORIAN
METHOD:PUBLISH
X-WR-CALNAME:Karori Junior Hockey Club
X-ORIGINAL-URL:http://kjhc.org.nz
X-WR-CALDESC:Events for Karori Junior Hockey Club
BEGIN:VTIMEZONE
TZID:Pacific/Auckland
BEGIN:STANDARD
TZOFFSETFROM:+1300
TZOFFSETTO:+1200
TZNAME:NZST
DTSTART:20190406T140000
END:STANDARD
BEGIN:DAYLIGHT
TZOFFSETFROM:+1200
TZOFFSETTO:+1300
TZNAME:NZDT
DTSTART:20190928T140000
END:DAYLIGHT
END:VTIMEZONE
BEGIN:VEVENT
DTSTART;TZID=Pacific/Auckland:20190815T193000
DTEND;TZID=Pacific/Auckland:20190815T213000
DTSTAMP:20191217T213140
CREATED:20190518T205314Z
LAST-MODIFIED:20190606T084543Z
UID:3722-1565897400-1565904600@kjhc.org.nz
SUMMARY:Club Movie Fundraiser Night
DESCRIPTION:Link to trailer for Once Upon a Time in Hollywood \nTICKETS WILL BE ON SALE SOON…WATCH FOR MORE INFO \n  \n
URL:http://kjhc.org.nz/event/club-movie-fundraiser-night/
LOCATION:Penthouse Cinema\, Brooklyn
END:VEVENT
END:VCALENDAR